BEGIN:VCALENDAR
VERSION:2.0
PRODID:-//www.southwicks.com - ECPv6.15.20//NONSGML v1.0//EN
CALSCALE:GREGORIAN
METHOD:PUBLISH
X-ORIGINAL-URL:https://www.southwicks.com
X-WR-CALDESC:Events for www.southwicks.com
REFRESH-INTERVAL;VALUE=DURATION:PT1H
X-Robots-Tag:noindex
X-PUBLISHED-TTL:PT1H
BEGIN:VTIMEZONE
TZID:America/Detroit
BEGIN:DAYLIGHT
TZOFFSETFROM:-0500
TZOFFSETTO:-0400
TZNAME:EDT
DTSTART:20240310T070000
END:DAYLIGHT
BEGIN:STANDARD
TZOFFSETFROM:-0400
TZOFFSETTO:-0500
TZNAME:EST
DTSTART:20241103T060000
END:STANDARD
BEGIN:DAYLIGHT
TZOFFSETFROM:-0500
TZOFFSETTO:-0400
TZNAME:EDT
DTSTART:20250309T070000
END:DAYLIGHT
BEGIN:STANDARD
TZOFFSETFROM:-0400
TZOFFSETTO:-0500
TZNAME:EST
DTSTART:20251102T060000
END:STANDARD
BEGIN:DAYLIGHT
TZOFFSETFROM:-0500
TZOFFSETTO:-0400
TZNAME:EDT
DTSTART:20260308T070000
END:DAYLIGHT
BEGIN:STANDARD
TZOFFSETFROM:-0400
TZOFFSETTO:-0500
TZNAME:EST
DTSTART:20261101T060000
END:STANDARD
END:VTIMEZONE
BEGIN:VEVENT
DTSTART;TZID=America/Detroit:20250521T160000
DTEND;TZID=America/Detroit:20250521T200000
DTSTAMP:20260424T042535
CREATED:20230602T131439Z
LAST-MODIFIED:20260328T140012Z
UID:21617-1747843200-1747857600@www.southwicks.com
SUMMARY:TRIGGER HAPPY HOURS
DESCRIPTION:Trigger Happy Hours are from 4pm to 8pm every Wednesday. Receive 50% off range time. No sign ups\, just come on in. \nMembers get 10% off ammo.
URL:https://www.southwicks.com/event/trigger-happy-hours-7/2025-05-21/
LOCATION:SOUTHWICK’S\, 1271 M-89\, Plainwell\, MI\, 49080\, United States
CATEGORIES:TRIGGER HAPPY HOURS
END:VEVENT
BEGIN:VEVENT
DTSTART;TZID=America/Detroit:20250522T180000
DTEND;TZID=America/Detroit:20250522T190000
DTSTAMP:20260424T042535
CREATED:20250425T170951Z
LAST-MODIFIED:20250425T170951Z
UID:21593-1747936800-1747940400@www.southwicks.com
SUMMARY:RIFLE WORK
DESCRIPTION:Rifle Works is a skill building class designed to help improve your rifle marksmanship. Each class will focus on different aspects of fundamentals and marksmanship. The class is open to beginners as well as experienced shooters. The class will be beneficial to each shooter’s lever\, yet fun for all levels. Cost is $35 for non-members. Member’s cost is $15 and must sign up in-store or by phone. 10% off ammo day of class for all students. \nThis class will be a combination of everything we have done the past few months. If you haven’t been here or missed a course\, that’s ok. We will make sure you understand before we start. \n  \nGear List \nRifle \nSling \n3 Magazines \nMag pouches \n100 rounds of ammo
URL:https://www.southwicks.com/event/rifle-work-16/
LOCATION:SOUTHWICK’S\, 1271 M-89\, Plainwell\, MI\, 49080\, United States
CATEGORIES:Skill Builder
END:VEVENT
BEGIN:VEVENT
DTSTART;TZID=America/Detroit:20250523T100000
DTEND;TZID=America/Detroit:20250523T200000
DTSTAMP:20260424T042535
CREATED:20250425T171657Z
LAST-MODIFIED:20250425T171657Z
UID:21602-1747994400-1748030400@www.southwicks.com
SUMMARY:FULL AUTO FRIDAY
DESCRIPTION:Free rental on all machine guns! Come in and let it rip! No rental fees and 10% off ammo on all full auto firearms.
URL:https://www.southwicks.com/event/full-auto-friday-15/
LOCATION:SOUTHWICK’S\, 1271 M-89\, Plainwell\, MI\, 49080\, United States
CATEGORIES:FULL AUTO FRIDAY
END:VEVENT
BEGIN:VEVENT
DTSTART;TZID=America/Detroit:20250524T100000
DTEND;TZID=America/Detroit:20250524T200000
DTSTAMP:20260424T042535
CREATED:20250425T172528Z
LAST-MODIFIED:20250425T172528Z
UID:21609-1748080800-1748116800@www.southwicks.com
SUMMARY:SOUTHWICK'S GEAR
DESCRIPTION:Wear your Southwick’s gear and get 50% off range time. Southwick’s hat\, shirt or sweatshirt all count.
URL:https://www.southwicks.com/event/southwicks-gear-12/
LOCATION:SOUTHWICK’S\, 1271 M-89\, Plainwell\, MI\, 49080\, United States
CATEGORIES:Fun Shoot
END:VEVENT
BEGIN:VEVENT
DTSTART;TZID=America/Detroit:20250525T080000
DTEND;TZID=America/Detroit:20250525T170000
DTSTAMP:20260424T042535
CREATED:20250425T165734Z
LAST-MODIFIED:20250425T165734Z
UID:21580-1748160000-1748192400@www.southwicks.com
SUMMARY:CPL MAY 25TH
DESCRIPTION:ONCE YOU SIGN UP THERE IS NO CHANGING DATE OR REFUNDS. NO EXCEPTIONS. \nThis class is for the people looking to get their Michigan CPL. The class covers the laws and a little shooting. You will leave the class with a certificate of completion that you take to your county clerk to apply for your CPL. Cost is $150 with gun\, ammo\, eye and ear protection being provided. You will use one of our Smith and Wesson M&P22. Do not bring your own gun. Class starts at 8am and we lock the doors at 8:05am. If you are later than 8:05am you forfeit the cost of the class. You will be given a break for lunch which you will be able to go to one of the restaurants around here or bring a lunch. Once you sign up for the class it is non-refundable or transferable to another date.
URL:https://www.southwicks.com/event/cpl-may-25th/
LOCATION:SOUTHWICK’S\, 1271 M-89\, Plainwell\, MI\, 49080\, United States
CATEGORIES:CPL
END:VEVENT
END:VCALENDAR