BEGIN:VCALENDAR
VERSION:2.0
PRODID:-//www.southwicks.com - ECPv6.15.20//NONSGML v1.0//EN
CALSCALE:GREGORIAN
METHOD:PUBLISH
X-WR-CALNAME:www.southwicks.com
X-ORIGINAL-URL:https://www.southwicks.com
X-WR-CALDESC:Events for www.southwicks.com
REFRESH-INTERVAL;VALUE=DURATION:PT1H
X-Robots-Tag:noindex
X-PUBLISHED-TTL:PT1H
BEGIN:VTIMEZONE
TZID:America/Detroit
BEGIN:DAYLIGHT
TZOFFSETFROM:-0500
TZOFFSETTO:-0400
TZNAME:EDT
DTSTART:20240310T070000
END:DAYLIGHT
BEGIN:STANDARD
TZOFFSETFROM:-0400
TZOFFSETTO:-0500
TZNAME:EST
DTSTART:20241103T060000
END:STANDARD
BEGIN:DAYLIGHT
TZOFFSETFROM:-0500
TZOFFSETTO:-0400
TZNAME:EDT
DTSTART:20250309T070000
END:DAYLIGHT
BEGIN:STANDARD
TZOFFSETFROM:-0400
TZOFFSETTO:-0500
TZNAME:EST
DTSTART:20251102T060000
END:STANDARD
BEGIN:DAYLIGHT
TZOFFSETFROM:-0500
TZOFFSETTO:-0400
TZNAME:EDT
DTSTART:20260308T070000
END:DAYLIGHT
BEGIN:STANDARD
TZOFFSETFROM:-0400
TZOFFSETTO:-0500
TZNAME:EST
DTSTART:20261101T060000
END:STANDARD
END:VTIMEZONE
BEGIN:VEVENT
DTSTART;TZID=America/Detroit:20250522T180000
DTEND;TZID=America/Detroit:20250522T190000
DTSTAMP:20260424T055325
CREATED:20250425T170951Z
LAST-MODIFIED:20250425T170951Z
UID:21593-1747936800-1747940400@www.southwicks.com
SUMMARY:RIFLE WORK
DESCRIPTION:Rifle Works is a skill building class designed to help improve your rifle marksmanship. Each class will focus on different aspects of fundamentals and marksmanship. The class is open to beginners as well as experienced shooters. The class will be beneficial to each shooter’s lever\, yet fun for all levels. Cost is $35 for non-members. Member’s cost is $15 and must sign up in-store or by phone. 10% off ammo day of class for all students. \nThis class will be a combination of everything we have done the past few months. If you haven’t been here or missed a course\, that’s ok. We will make sure you understand before we start. \n  \nGear List \nRifle \nSling \n3 Magazines \nMag pouches \n100 rounds of ammo
URL:https://www.southwicks.com/event/rifle-work-16/
LOCATION:SOUTHWICK’S\, 1271 M-89\, Plainwell\, MI\, 49080\, United States
CATEGORIES:Skill Builder
END:VEVENT
END:VCALENDAR